BEGIN:VCALENDAR
VERSION:2.0
PRODID:-//wp-events-plugin.com//6.6.4.4//EN
TZID:Europe/Rome
X-WR-TIMEZONE:Europe/Rome
BEGIN:VEVENT
UID:0-90@noguerranonato.org
DTSTART;TZID=Europe/Rome:20250724T203000
DTEND;TZID=Europe/Rome:20250724T233000
DTSTAMP:20250719T103422Z
URL:https://www.noguerranonato.org/lottare/events/giu-le-mani-da-gianluca/
SUMMARY:Giù le mani da Gianluca
DESCRIPTION:GIÙ LE MANI DA GIANLUCA\n\nSiamo tutti e tutte colpevoli di vi
 cinanza alla causa Palestinese!
ATTACH;FMTTYPE=image/jpeg:https://www.noguerranonato.org/lottare/wp-conten
 t/uploads/sites/3/2025/07/IMG_20250719_123332_550.jpg
LOCATION:CPA Firenze Sud\, via Villamagna 27a\, Firenze\, Italia
X-APPLE-STRUCTURED-LOCATION;VALUE=URI;X-ADDRESS=via Villamagna 27a\, Firenz
 e\, Italia;X-APPLE-RADIUS=100;X-TITLE=CPA Firenze Sud:geo:0,0
END:VEVENT
BEGIN:VTIMEZONE
TZID:Europe/Rome
X-LIC-LOCATION:Europe/Rome
BEGIN:DAYLIGHT
DTSTART:20250330T030000
TZOFFSETFROM:+0100
TZOFFSETTO:+0200
TZNAME:CEST
END:DAYLIGHT
END:VTIMEZONE
END:VCALENDAR