BEGIN:VCALENDAR
VERSION:2.0
PRODID:-//wp-events-plugin.com//6.6.4.4//EN
TZID:Europe/Rome
X-WR-TIMEZONE:Europe/Rome
BEGIN:VEVENT
UID:0-88@noguerranonato.org
DTSTART;TZID=Europe/Rome:20250718T074500
DTEND;TZID=Europe/Rome:20250718T120000
DTSTAMP:20250715T181243Z
URL:https://www.noguerranonato.org/lottare/events/le-bombe-su-gaza-partono
 -anche-da-viterbo/
SUMMARY:Le bombe su Gaza partono anche da Viterbo
DESCRIPTION:Perché un titolo così? In parte\, la risposta è data da una 
 ormai decennale assuefazione alla...\n\nContinua a leggere...
ATTACH;FMTTYPE=image/jpeg:https://www.noguerranonato.org/lottare/wp-conten
 t/uploads/sites/3/2025/07/1-12.jpg
LOCATION:Gelco spa\, Strada Poggino 45\, Viterbo\, Italia
X-APPLE-STRUCTURED-LOCATION;VALUE=URI;X-ADDRESS=Strada Poggino 45\, Viterbo
 \, Italia;X-APPLE-RADIUS=100;X-TITLE=Gelco spa:geo:0,0
END:VEVENT
BEGIN:VTIMEZONE
TZID:Europe/Rome
X-LIC-LOCATION:Europe/Rome
BEGIN:DAYLIGHT
DTSTART:20250330T030000
TZOFFSETFROM:+0100
TZOFFSETTO:+0200
TZNAME:CEST
END:DAYLIGHT
END:VTIMEZONE
END:VCALENDAR