BEGIN:VCALENDAR
VERSION:2.0
PRODID:-//wp-events-plugin.com//6.6.4.4//EN
TZID:Europe/Rome
X-WR-TIMEZONE:Europe/Rome
BEGIN:VEVENT
UID:0-89@noguerranonato.org
DTSTART;TZID=Europe/Rome:20250719T180000
DTEND;TZID=Europe/Rome:20250719T210000
DTSTAMP:20250719T103122Z
URL:https://www.noguerranonato.org/lottare/events/marcia-per-la-palestina-
 a-torre-del-greco/
SUMMARY:Marcia per la Palestina a Torre del Greco
DESCRIPTION:Concentramento Villa comunale ore 18\n\nMarcia per la Palestina
ATTACH;FMTTYPE=image/jpeg:https://www.noguerranonato.org/lottare/wp-conten
 t/uploads/sites/3/2025/07/IMG_20250719_122940_226.jpg
LOCATION:Torre del Greco\, villa Comunale\, Torre del Greco\, Italia
X-APPLE-STRUCTURED-LOCATION;VALUE=URI;X-ADDRESS=villa Comunale\, Torre del 
 Greco\, Italia;X-APPLE-RADIUS=100;X-TITLE=Torre del Greco:geo:0,0
END:VEVENT
BEGIN:VTIMEZONE
TZID:Europe/Rome
X-LIC-LOCATION:Europe/Rome
BEGIN:DAYLIGHT
DTSTART:20250330T030000
TZOFFSETFROM:+0100
TZOFFSETTO:+0200
TZNAME:CEST
END:DAYLIGHT
END:VTIMEZONE
END:VCALENDAR