BEGIN:VCALENDAR
VERSION:2.0
PRODID:-//wp-events-plugin.com//6.6.4.4//EN
TZID:Europe/Rome
X-WR-TIMEZONE:Europe/Rome
BEGIN:VEVENT
UID:0-85@noguerranonato.org
DTSTART;TZID=Europe/Rome:20250719T190000
DTEND;TZID=Europe/Rome:20250719T230000
DTSTAMP:20250715T180840Z
URL:https://www.noguerranonato.org/lottare/events/presentazione-di-police-
 abolition/
SUMMARY:PRESENTAZIONE DI “POLICE ABOLITION”
DESCRIPTION:MONZA: SABATO 19 LUGLIO PRESENTAZIONE DI “POLICE ABOLITION”
 .\nDESTRA ( e non solo) SCATENATA CONTRO IL FOA BOCCACCIO\n\nIl FOA Boccac
 cio 003 di Monza ha organizzato per questo sabato\, 19 luglio\, la present
 azione del libro “POLICE ABOLITION-Corso di base sull’abolizione della
  polizia”.\n\nLa presentazione della fanzine americana ha scatenato una 
 canea di prese di posizione da parte di forze politiche\, di ogni colore -
  immancabile la condanna del PD locale ad esempio - e di esponenti del mon
 do dell'informazione.\n\nAl Boccaccio va tutta la nostra solidarietà: un 
 abbraccio anche a Italo di Sabato dell’Osservatorio Repressione curatore
  dell’edizione italiana.\n\nDinanzi a questi inquietanti episodi da stat
 o di polizia\, emblematici del clima reazionario in cui viviamo\, ci oppor
 remo\, sempre!
ATTACH;FMTTYPE=image/jpeg:https://www.noguerranonato.org/lottare/wp-conten
 t/uploads/sites/3/2025/07/1-9.jpg
LOCATION:Giardini pubblici\, via San Rocco\, Monza\, Milano\, Italia
X-APPLE-STRUCTURED-LOCATION;VALUE=URI;X-ADDRESS=via San Rocco\, Monza\, Mil
 ano\, Italia;X-APPLE-RADIUS=100;X-TITLE=Giardini pubblici:geo:0,0
END:VEVENT
BEGIN:VTIMEZONE
TZID:Europe/Rome
X-LIC-LOCATION:Europe/Rome
BEGIN:DAYLIGHT
DTSTART:20250330T030000
TZOFFSETFROM:+0100
TZOFFSETTO:+0200
TZNAME:CEST
END:DAYLIGHT
END:VTIMEZONE
END:VCALENDAR